Workbook

Sheet Лист1
A1: План мероприятий по досуговой, социально-воспитательной и спортивной работе с населением по месту жительства Тверского района на 1 квартал 2025 года.
A6: № п/п | B6: Название мероприятия | C6: Направленность мероприятия спорт/досуг | D6: Форма мероприятия | E6: Краткое содержание мероприятия | F6: Дата проведения мероприятия | G6: Время проведения мероприятия | H6: Место проведения мероприятия (наименование учреждения, адрес) | I6: Возрастная категория | J6: Ответственный за проведение мероприятия и телефон (наименование учреждения, ФИО, моб. тел.)
A7: 1 | B7: 2 | C7: 3 | D7: 4 | E7: 5 | F7: 6 | G7: 7 | H7: 8 | I7: 9 | J7: 10
A8: 1 | B8: "Рождество". Праздничные мероприятия, мастер-классы. | C8: Досуг | D8: Танцевальный мастер-класс | E8: Мастер-класс по классическому танцу | F8: 45663 | G8: 16.00 | H8: Садовая Триумфальная, д.16,к.3 | I8: 12+ | J8: АНО ТК "Детское Ателье" Юмашева Л.А. 89850508822
A9: 2 | B9: Рождественский открытый ковер | C9: Спорт | D9: Открытый ковер | E9: Открытый ковер и мастер-класс | F9: 45663 | G9: 45537.667 | H9: Петровка 26с2 | I9: 3+ | J9: АНО "Буран" Домарадский Игорь Павлович 8(910)4272508
A10: 3 | B10: "Рождество". Праздничные мероприятия, мастер-классы. | C10: Досуг | D10: Праздничная программа | E10: Выставка рисунков "Рождество в Москве", праздничная программа, чаепитие.. | F10: 45663 | G10: 12.00 | H10: Москва, 1-я Миусская, д.22, с.4. Возможно выездное мероприятие. | I10: от 5 до 75 лет | J10: АНО "Солнечный Ангел" Маркелова М.В. 8(916)6161669
A11: 4 | B11: Беседа о вреде наркотиков и пользе здорового образа жизни | C11: Досуг | D11: Беседа | E11: Беседа о вреде наркотиков и пользе здорового образа жизни с привлечением лиц, состоящих учете КДНиЗП | F11: 45665 | G11: 11.00 | H11: Садовая Триумфальная, д.16,к.3 | I11: 18+ | J11: АНО ТК "Детское Ателье" Вещикова Екатерина Константиновна (985)050-88-22
A12: 5 | B12: Споривный фестиваль | C12: Спорт | D12: Турнир | E12: Проведение турниров по различным видам спорта, где основной целью будет содействие укреплению общинных связей | F12: 45665 | G12: 0.75 | H12: Сущевская, 17 | I12: 16+ | J12: АНО "Центр развития социально-значимых проектов и содействия укреплению межнациональго и межрелигиозного согласия" Коршунов Станислав Сергеевич 8(962)984-34-96
A13: 6 | B13: "В РОЖДЕСТВО ВСЕ НЕМНОГО ВОЛХВЫ..." Мероприятие, посвящённое празднованию Рождества | C13: Досуг | D13: Праздник | E13: Тематическая литературно-музыкальная программа творческого коллектива со стихами, песнями, танцами. Праздничное чаепитие. | F13: 45665 | G13: 16.00 | H13: ул.Садовая Каретная д.8, стр.5 | I13: 5+ | J13: АНО Центр "Катюша" Цахилова Земфира Аврамовна 8 (985) 9999 370
A14: 7 | B14: Спортивное мероприятие. Открытый Турнир Король Партера 24, посвященный профилактике наркомании среди молодежи | C14: Спорт | D14: Соревнования | E14: Большой открытый турнир по Бразильскому Джиу-Джитсу Король Партера 24, посвященный профилактике наркомании среди молодежи | F14: 45666 | G14: 10.00 | H14: ул. Петровка, 26с2 | I14: 16+ | J14: АНО "Буран" Домарадский Игорь Павлович 8(910)4272508
A15: 8 | B15: "Творческий вечер: Рисуем вместе" | C15: Досуг | D15: Мастер - класс | E15: Мастер-класс по акварельной живописи. Участники познакомятся с основами акварельной техники и создадут свои картины. В конце пройдет выставка работ. | F15: 45666 | G15: 0.5 | H15: 2-й Колобовский пер., д. 9/2, стр.1 | I15: 3+ | J15: АНО "Искусство в руках" Гульбарян Карен 8(916)121-11-44
A16: 9 | B16: "ВЕСЕЛАЯ СКАКАЛКА" Спортивный конкурс по прыжкам на скакалке | C16: Спорт | D16: Спортивное соревнование | E16: Спортивное состязание индивидуальных достижений с присвоением призовых мест согласно возрастной категории. | F16: 45667 | G16: 17.30 | H16: ул.Садовая Каретная д.8, стр.5 | I16: 5+ | J16: АНО Центр "Катюша" Цахилова Земфира Аврамовна 8 (985) 9999 370
A17: 10 | B17: Старый Новый год | C17: Спорт | D17: День борьбы | E17: Открытый ковер и мастер-класс | F17: 45667 | G17: 45446.458 | H17: ул. Петровка, 26с2 | I17: 10+ | J17: АНО "Буран" Домарадский Игорь Павлович 8(910)4272508
A18: 11 | B18: "Будь здоров!" | C18: Спорт | D18: Мастер- класс | E18: Мастер-класс по фитнес-йоге | F18: 45668 | G18: 13.00 | H18: Садовая Триумфальная, д.16,к.3 | I18: 15+ | J18: АНО ТК "Детское Ателье" Юмашева Л.А. 89850508822
A19: 12 | B19: =[1]Лист1!B8 -> Малая авиация: основы пилотирования | C19: =[1]Лист1!C8 -> Досуг | D19: =[1]Лист1!D8 -> мастер-класс | E19: =[1]Лист1!E8 -> Лекция по теории малой авиации, области её применения, нормативно-правовая база, производственные мощности в данный момент и новые Отечественные разработки. Практическая подготовка: изучение основ пилотирования на компьютерном симуляторе | F19: 45668 | G19: 10.00 | H19: 3-я Тверская-Ямская ул., д.12 | I19: =[1]Лист1!I8 -> 16+ | J19: ФР "Сильная страна" Наместников А.А. 89997400755
A20: 13 | B20: День откртых дверей | C20: Досуг | D20: открытый урок | E20: Открытые уроки занятий центра | F20: 45670 | G20: 0.70833333 | H20: Делегатская 14/2 | I20: 3+ | J20: АНО "Джельсомино" Зурабова Марина Вачакановна 8(968)484-65-05
A21: 14 | B21: "ДОБРЫЙ СТАРЫЙ НОВЫЙ ГОД" | C21: Досуг | D21: Вечер отдыха | E21: Культурно-досуговое мероприятие,посвященное празднованию Старого Нового года. Тематический вечер с конкурсами, стихами, песнями и загадками. Чаепитие. | F21: 45670 | G21: 17.00 | H21: Ул.Чаянова, 16 | I21: 18+ | J21: НП "Спортартлайн" Абдурашидов М.С. +79856807711
A22: 15 | B22: Традиции на Старый Новый год | C22: Досуг | D22: развлекательное | E22: праздник во дворе. Викторыны, конкурсы, игры | F22: 45670 | G22: 0.70833333 | H22: уличная дворовая площадка Тихвинская ул. д.3 | I22: 3+ | J22: «Авто- мото ТР-клуб САО» Юрова Анастасия Дмитриевна 8-903-510-03-19
A23: 16 | B23: "Старый Ноый год" | C23: Досуг | D23: Выездное мероприятие в ЦСПР, ЦССВ г. Москвы | E23: Мастер-класс. Хореографическая сказка "Щелкунчик". | F23: 45671 | G23: 12.00 | H23: Москва, 1-я Миусская, д.22, с.4. | I23: от 7 до 60 лет | J23: АНО "Солнечный Ангел" Маркелова М.В. 8(916)6161669
A24: 17 | B24: "Фотография: Запечатлей момент!" | C24: Досуг | D24: Мастер-класс | E24: Мастер-класс по основам фотографии. Участники получат задания на практике. | F24: 45671 | G24: 0.625 | H24: 2-й Колобовский пер., д. 9/2, стр.1 | I24: 3+ | J24: АНО "Искусство в руках " Гульбарян Карен 8(916)121-11-44
A25: 18 | B25: Здоровый образ жизни. Его основы и принципы | C25: Досуг | D25: Интерактивное занятие | E25: Ведя здоровый образ жизни, человеку легче справляться с перегрузками и реализовывать свои планы. А крепкое здоровье позволяет прожить долгую и радостную жизнь, наполненную яркими впечатлениями | F25: 45671 | G25: 0.52083333 | H25: Петровка 26с2 | I25: 16+ | J25: АНО "Буран" Домарадский Игорь Павлович 8(910)4272508
A26: 19 | B26: Развивающий мастер-класс для детей дошкольного возраста | C26: Досуг | D26: Мастер-класс | E26: Спортивныый мастер-класс | F26: 45672 | G26: 0.70833333 | H26: Петровка 26с2 | I26: 7+ | J26: АНО "Буран" Домарадский Игорь Павлович 8(910)4272508
A27: 20 | B27: Соседские посиделки Здоровый образ жизни. Его основы и принципы | C27: Досуг | D27: Беседа | E27: Ведя здоровый образ жизни, человеку легче справляться с перегрузками и реализовывать свои планы. А крепкое здоровье позволяет прожить долгую и радостную жизнь, наполненную яркими впечатлениями | F27: 45672 | G27: 19.00 | H27: Тихвинский переулок 6 | I27: 18+ | J27: АНО "Социальная открытая линия" Островский Антон Николаевич +79260311020
A28: 21 | B28: Индивидуальные консультации | C28: Досуг | D28: Кружок | E28: Индивидуальное психологическое консультирование | F28: 45672 | G28: 18.00-21.00 | H28: Тихвинский переулок 6 | I28: 5+ | J28: АНО «Социальная открытая линия» Арчакова Татьяна Олеговна +79169259174
A29: 22 | B29: Мастер-класс "Традиционные костюмы народов России" | C29: Досуг | D29: Мастер-класс | E29: Волонтёры и педагоги БФ "Дети Марии" проводят мастер-класс для своих благополучателей и жителей района Тверской | F29: 45673 | G29: 0.75 | H29: Дмитровский переулок 2с.1 | I29: 6+ | J29: БФ "Дети Марии" Стахеева Вероника 8 985 974 63 65
A30: 23 | B30: Здоровый образ жизни. Его основы и принципы | C30: Досуг | D30: Беседа | E30: Ведя здоровый образ жизни, человеку легче справляться с перегрузками и реализовывать свои планы. А крепкое здоровье позволяет прожить долгую и радостную жизнь, наполненную яркими впечатлениями | F30: 45673 | G30: 16.00 | H30: Новослободская ул. 62-15 | I30: 18+ | J30: НКОО "Московская осетинская община" Таутиев Казбек Умарович +79188227921
A31: 24 | B31: "Борьба с фейковой информацией" | C31: Досуг | D31: видеоролик | E31: Просмотр видеоролика: "Борьба с фейковой информацией"подготовленного по инициативе антитеррористической комиссии в Сахалинской области. | F31: 45674 | G31: 0.625 | H31: М. Каретный,7 | I31: 12+ | J31: РОО "Победа" Смирнов Вадим Борисович 89854113834
A32: 25 | B32: Мастер-класс с чемпионом России по кикбоксингу, турнир, посвященный Рождеству Христиву | C32: Спорт | D32: Мастер - класс | E32: Мастер-класс для всех желающих в возрасте 16-35 лет. Мероприятие в спортивном зале для единоборств. | F32: 45674 | G32: 0.79166667 | H32: Сущевская, 17 | I32: 16+ | J32: АНО "Центр развития социально-значимых проектов и содействия укреплению межнационального и межрелигиозного согласия" Коршунов Станислав Сергеевич 8(962)984-34-96
A33: 26 | B33: Здоровый образ жизни. Его основы и принципы | C33: Досуг | D33: Интерактивное занятие | E33: Ведя здоровый образ жизни, человеку легче справляться с перегрузками и реализовывать свои планы. А крепкое здоровье позволяет прожить долгую и радостную жизнь, наполненную яркими впечатлениями. Участием лиц, состоящих на учете КДНиЗП | F33: 45674 | G33: 12.00 | H33: М. Каретный,7 | I33: 18+ | J33: РОО "Победа" Смирнов Вадим Борисович 89854113834
A34: 27 | B34: "Борьба с фейковой информацией" | C34: Досуг | D34: видеоролик | E34: Просмотр видеоролика: "Борьба с фейковой информацией"подготовленного по инициативе антитеррористической комиссии в Сахалинской области. | F34: 45674 | G34: 0.54166667 | H34: г.Москва,ул. 1-я Миусская, д.22, с.4 | I34: 12+ | J34: АНО "Солнечный Ангел" Маркелова М.В. 8(916)6161669
A35: 28 | B35: Акция по сбору детских книг «Подари книге жизнь», посвященная Дню детской книги. Беседа о вреде наркотиков и пользе здорового образа жизни | C35: Досуг | D35: Акция | E35: Благотоворительная акция по сбору книг, в которой принимают участия родители совместно с детьмя, а также лица состоящие на учете КДНиЗП. Беседа о вреде наркотиков и пользе здорового образа жизни | F35: 45675 | G35: 12.00 | H35: Делегатская 14/2 | I35: 3+ | J35: АНО "Джельсомино" Зурабова Марина Вачакановна 8(968)484-65-05
A36: 29 | B36: Здоровый образ жизни. Его основы и принципы | C36: Досуг | D36: Интерактивное занятие, беседа | E36: Ведя здоровый образ жизни, человеку легче справляться с перегрузками и реализовывать свои планы. А крепкое здоровье позволяет прожить долгую и радостную жизнь, наполненную яркими впечатлениями. Выступление детей для родителей и приглашенных жителей микрорайона, а также с участием лиц, состоящих учете КДНиЗП. Беседа о вреде наркотиков и пользе здорового образа жизни | F36: 45675 | G36: 12.00 | H36: г.Москва,ул. 1-я Миусская, д.22, с.4 | I36: 7+ | J36: АНО "Солнечный Ангел" Маркелова М.В. 8(916)6161669
A37: 30 | B37: =[1]Лист1!B9 -> Малая авиация: секреты и тонкости | C37: =[1]Лист1!C9 -> Досуг | D37: =[1]Лист1!D9 -> мастер-класс | E37: Теория по малой авиации, области её применения, нормативно-правовая база, производственные мощности в данный момент и новые Отечественные разработки. Практическая подготовка: изучение основ пилотирования на компьютерном симуляторе | F37: 45675 | G37: =[1]Лист1!G9 -> 10:00-11:30 | H37: 3-я Тверская-Ямская ул., д.12 | I37: 16+ | J37: ФР "Сильная страна" Наместников А.А. 89997400755
A38: 31 | B38: Солнечный Ангел приглашает друзей. | C38: Досуг | D38: Творческая встреча. | E38: Творческие встречи с интертесными людьми. Круглый стол. | F38: 45676 | G38: 14.00 | H38: Москва, 1-я Миусская, д.22, с.4 | I38: от 7 до 60 лет | J38: АНО "Солнечный Ангел" Маркелова М.В. 8(916)6161669
A39: 32 | B39: "В РИТМЕ ТАНЦА" | C39: Досуг | D39: Мастер-класс | E39: Танцевальный вечер в стиле хастл. Профессиональные танцоры проведут ознакомительное занятие по технике танца хастл. Чаепитие. | F39: 45676 | G39: 19.00 | H39: Ул.Чаянова, 16 | I39: 18+ | J39: НП "СпортАртлайн" Абдурашидов М.С. +79856807711
A40: 33 | B40: Благотворительный мастер-класс | C40: Досуг | D40: творческая мастерская | E40: изготовление спасательных браслетов | F40: 45677 | G40: 0.625 | H40: Тихвинский пер. дом 10/12-9 | I40: 18+ | J40: «Авто- мото ТР-клуб САО» Юрова Анастасия Дмитриевна 8-903-510-03-19
A41: 34 | B41: "Мой район Тверской. Цветной бульвар вчера и сегодня" | C41: Досуг | D41: Уличное мероприятие | E41: Экскурсия | F41: 45678 | G41: 13.00 | H41: Цветной бульвар | I41: 10+ | J41: АНО ТК "Детское Ателье" Вещикова Е.К. 89850508822
A42: 35 | B42: Международный день снеговика | C42: Досуг | D42: Мастер-класс | E42: Мастер класс по декоративно-прикладному искусству "Хорошие снеговики". | F42: 45679 | G42: 18.00 | H42: 2й Колобовский пер., 9/2с1 | I42: 7+ | J42: АНО "Эстетик класс" Чернояров М.В. 8 (906) 790-88-02
A43: 36 | B43: Практика сборки беспилотных летательных аппаратов | C43: Досуг | D43: Мастер-класс | E43: Сборка БПЛА, разработанных участниками НКО | F43: 45679 | G43: 12.00 | H43: Москва, ул. 3-я Тверская-Ямская д.12.стр 2 | I43: 16+ | J43: ФР "Сильная страна" Наместников Арсений - 89997400755
A44: 37 | B44: Соседские посиделки | C44: Досуг | D44: Кружок | E44: Игры, соседское общение на английском языке | F44: 45680 | G44: 19.00 | H44: Тихвинский переулок 6 | I44: 7+ | J44: АНО «Социальная открытая линия» Островский Антон Николаевич +79260311020
A45: 38 | B45: "Борьба с фейковой информацией" | C45: Досуг | D45: видеоролик | E45: Просмотр видеоролика: "Борьба с фейковой информацией"подготовленного по инициативе антитеррористической комиссии в Сахалинской области. | F45: 45680 | G45: 0.75 | H45: Дмитровский переулок 2с.1 | I45: 12+ | J45: БФ "Дети Марии" Стахеева Вероника 8 985 974 63 65
A46: 39 | B46: "Вечера на Тихвинском близ Бутырки" | C46: Досуг | D46: Встреча соседей | E46: Соседские встречи-посиделки для тех, кому одиноко субботним вечером | F46: 45681 | G46: 18.00 | H46: Тихвинский переулок 6 | I46: 7+ | J46: АНО «Социальная открытая линия» Островский Антон Николаевич +79260311020
A47: 40 | B47: Развивающий мастер-класс для детей дошкольного возраста, а также беседа в виде игры "Скажи НЕТ наркотикам! | C47: Досуг | D47: Мастер-класс | E47: Участие в мастер-классе с использованием игровых методик служит развитию личности ребенка и обучению родителей методам игрового взаимодействия с детьми. На мастер-классе участники познакомятся с лучшими настольными интеллектуальными играми для детей дошкольного и младшего школьного возраста. А также, примут участие в настольной игре ходилка-бродилка по русским народным сказкам. Проведение интерактивной познавательной игры о вреде наркотиков | F47: 45681 | G47: 17.00 | H47: 3-я Тверская-Ямская ул., д.12 | I47: 16+ | J47: ФР "Сильная страна" Наместников А.А. 89997400755
A48: 41 | B48: "ИТАК, ОНА ЗВАЛАСЬ ТАТЬЯНА" Литературный вечер, посвященный Татьяниному дню | C48: Досуг | D48: Литературно-исторический вечер | E48: Литературная программа со стихами и театрализоваными выдержками по произведениям классиков | F48: 45682 | G48: 18.00 | H48: ул.Садовая Каретная д.8, стр.5 | I48: 5+ | J48: АНО Центр "Катюша" Цахилова Земфира Аврамовна 8 (985) 9999 370
A49: 42 | B49: Открытый урок на тему "Снег своими руками" | C49: Досуг | D49: откртый урок | E49: Открытый урок для детей и родителей студии "Творческая мастерская" | F49: 45682 | G49: 0.75 | H49: Делегатская 14/2 | I49: 4+ | J49: АНО "Джельсомино" Зурабова Марина Вачакановна 8(968)484-65-05
A50: 43 | B50: День студента | C50: Спорт | D50: Открытый ковер | E50: Открытый ковер и мастер-класс | F50: 45682 | G50: 45617.458 | H50: Петровка 26с2 | I50: 18+ | J50: АНО "Буран" Домарадский Игорь Павлович 8(910)4272508
A51: 44 | B51: =[1]Лист1!B10 -> Самолётостроение для всех: изучаем основы | C51: =[1]Лист1!C10 -> Досуг | D51: =[1]Лист1!D10 -> мастер-класс | E51: =[1]Лист1!E10 -> Лекция по самолётостроению: основные этапы проектирования, ключевые элементы конструкции, используемые материалы, современные технологии и перспективные разработки. | F51: 45682 | G51: 10.00 | H51: 3-я Тверская-Ямская ул., д.12 | I51: 16+ | J51: ФР "Сильная страна" Наместников А.А. 89997400755
A52: 45 | B52: "МИР ВАШЕМУ ДОМУ" | C52: Досуг | D52: Вечер | E52: Культурно-досуговое мероприятие,посвященное Дню рождения В.Высоцкого. Тематическая литературно-музыкальная программа, подготовленная любителями творчества В.С.Высоцкого .Чаепитие. | F52: 45682 | G52: 18.00 | H52: Ул.Чаянова, 16 | I52: 18+ | J52: НП "СпортАртлайн" Абдурашидов М.С. +79856807711
A53: 46 | B53: Соревнования по мини-футболу и традиционным играм и забавам ко Дню флага России | C53: Досуг | D53: Спортивный турнир | E53: Соревнования по мини-футболу и традиционным играм и забавам для населения различных социальных и возрастных категорий, включая лиц с ограниченными возможностями здоровья | F53: 45683 | G53: 0.5 | H53: ул. Александра Невского, 4 | I53: 7+ | J53: АНО "Центр развития социально-значимых проектов и содействия укреплению межнационального и межрелигиозного согласия" Коршунов Станислав Сергеевич 8(962)984-34-96
A54: 47 | B54: Открытый киноклуб "Экологические истории" | C54: Досуг | D54: Киноклуб | E54: Волонтёры и педагоги БФ "Дети Марии" проводят открытый киноклуб для своих благополучателей и жителей района Тверской | F54: 45683 | G54: 0.625 | H54: Дмитровский переулок 2с.1 | I54: 6+ | J54: БФ "Дети Марии" Якушева Александра, 8 977 438 70 06
A55: 48 | B55: День джиу-джитсу | C55: спорт | D55: День борьбы | E55: Открытый ковер и мастер-класс | F55: 45684 | G55: 45617.708 | H55: Петровка 26с2 | I55: 10+ | J55: АНО "Буран" Домарадский Игорь Павлович 8(910)4272508
A56: 49 | B56: =[2]Лист1!C22 -> Соседские посиделки | C56: =[2]Лист1!D22 -> Досуг | D56: =[2]Лист1!E22 -> Кружок | E56: =[2]Лист1!F22 -> Игры, соседское общение на английском языке | F56: 45684 | G56: 18.00 | H56: Тихвинский переулок 6 | I56: =[2]Лист1!J22 -> Все | J56: АНО «Социальная открытая линия» Островский Антон Николаевич +79260311020
A57: 50 | B57: Круглый стол, посвящённый Дню российского студенчества | C57: Досуг | D57: Онлайн-конференция | E57: Мероприятие по укреплению традиционных духовно-нравственных ценностей среди молодежи | F57: 45684 | G57: 0.5 | H57: Сущевская, 17 | I57: 14+ | J57: АНО "Центр развития социально-значимых проектов и содействия укреплению межнационального и межрелигиозного согласия" Коршунов Станислав Сергеевич 8(962)984-34-96
A58: 51 | B58: День снятия Блокады города- героя Ленинграда. | C58: Досуг | D58: Встреча с Советом ветеранов района Тверская | E58: Встреча с Советом ветеранов района Тверской, чаепитие, вручение подарков. | F58: 45684 | G58: 12.00 | H58: 2й Колобовский пер., 9/2с1 | I58: 18+ | J58: АНО "Эстетик класс" Чернояров М.В. 8 (906) 790-88-02
A59: 52 | B59: Традиции и обычаи к подготовке Масленницы | C59: Досуг | D59: Мастер-класс | E59: Кулинарный мастер-класссладостей к новогоднему столу в Новогодние праздники, беседа о пользе здорового образа жизни | F59: 45685 | G59: 13.00 | H59: М. Каретный,7 | I59: 18+ | J59: РОО "Победа" Смирнов Вадим Борисович 89854113834
A60: 53 | B60: Благотворительный мастер-класс | C60: Досуг | D60: мастер-класс | E60: мастер-класс по плетению маскеровочных сетей | F60: 45686 | G60: 0.625 | H60: Тихвинский пер. дом 10/12-9 | I60: 18+ | J60: «Авто- мото ТР-клуб САО» Юрова Анастасия Дмитриевна 8-903-510-03-19
A61: 54 | B61: Семейный праздник "День детского веселья". Беседа о вреде наркотиков и пользе здорового образа жизни | C61: Досуг | D61: Праздник | E61: Выступление детей для родителей и приглашенных жителей микрорайона, а также с участием лиц, состоящих учете КДНиЗП. Беседа о вреде наркотиков и пользе здорового образа жизни | F61: 45687 | G61: 17-00 | H61: ул. Садовая-Каретная 8 стр. 5 | I61: 3+ | J61: АНО Центр "Катюша" Цахилова Земфира Аврамовна 8(985) 999 9370
A62: 55 | B62: Дворовой фестиваль мастер-классов по изобразительному и декоративно-прикладному искусству для жителей района "Мои любимые города, культура страны" | C62: Досуг | D62: мастер-класс | E62: Мастер - класс в Делегатском парке по живописи.Приглашение представителей диаспор, расположенных на территории Тверского района | F62: 45687 | G62: 18.00 | H62: Миусский сквер | I62: 3+ | J62: АНО "Джельсомино" Зурабова Марина Вачакановна 8(968)484-65-05
A63: 56 | B63: =B31 -> "Борьба с фейковой информацией" | C63: =C31 -> Досуг | D63: =D31 -> видеоролик | E63: =E31 -> Просмотр видеоролика: "Борьба с фейковой информацией"подготовленного по инициативе антитеррористической комиссии в Сахалинской области. | F63: 45687 | G63: 10.00 | H63: 2-й Колобовский пер., д. 9/2, стр.1 | I63: 12+ | J63: АНО "Искусство в руках" Гульбарян Карен 8(916)121-11-44
A64: 57 | B64: Зимняя детская эстафета "Спорт против наркотиков" | C64: Спорт | D64: эстафета | E64: Детская эставета в зале досугового спортивного клуба, посвященная здоровому образу жизни. В игровой форметренера спортсмены расскажут, как полезен спорт, об играх в зимнее время и и вреде наркотиков, особенно в юнном возрасте. | F64: 45688 | G64: 11.00 | H64: Петровка 26с2 | I64: 4+ | J64: АНО "Буран" Домарадский Игорь Павлович 8(910)4272508
A65: 58 | B65: Соседские посиделки Здоровый образ жизни. Его основы и принципы | C65: Досуг | D65: Беседа | E65: Ведя здоровый образ жизни, человеку легче справляться с перегрузками и реализовывать свои планы. А крепкое здоровье позволяет прожить долгую и радостную жизнь, наполненную яркими впечатлениями | F65: 45688 | G65: 19.00 | H65: Новолесной пер., 11-13 | I65: 18+ | J65: АНО «Альянс Евразия» Островский Антон Николаевич +79260311020
A66: 59 | B66: =[1]Лист1!B11 -> Как создать свой первый самолёт: практическое руководство | C66: =[1]Лист1!C11 -> Досуг | D66: =[1]Лист1!D11 -> мастер-класс | E66: =[1]Лист1!E11 -> Знакомство с инструментами и материалами. Создание модели простой модели самолета. | F66: 45689 | G66: 10.00 | H66: 3-я Тверская-Ямская ул., д.12 | I66: 16+ | J66: ФР "Сильная страна" Наместников А.А. 89997400755
A67: 60 | B67: День разгрома фашистских войск в Сталинградской битве | C67: =[1]Лист1!C12 -> Досуг | D67: акция | E67: Возложение цветов | F67: 45690 | G67: 45548.458 | H67: Петровка 26с2 | I67: 10+ | J67: АНО "Буран" Чумаков Иван Викторович 8(926)2823744
A68: 61 | B68: "В НАЧАЛЕ БЫЛО СЛОВО" | C68: Досуг | D68: Акция | E68: Культурно-досуговое мероприятие, посвящённое Дню боьбы с ненормативной лексикой. Блиц опрос молодёжи об отношении к ненормативной лексике, раздача памяток "Скажи "НЕТ" сквернословию" | F68: 45691 | G68: 18.00 | H68: Ул.Чаянова, 16 | I68: 18+ | J68: НП "СпортАртлайн"Абдурашидов М.С. +79856807711
A69: 62 | B69: Беседа о вреде наркотиков и пользе здорового образа жизни | C69: =[1]Лист1!C14 -> Досуг | D69: Беседа | E69: Беседа о вреде наркотиков и пользе здорового образа жизни с привлечением лиц, состоящих учете КДНиЗП | F69: 45691 | G69: 18.00 | H69: Сущевская, 17 | I69: 16+ | J69: АНО "Центр развития социально-значимых проектов и содействия укреплению межнациональго и межрелигиозного согласия" Коршунов Станислав Сергеевич 8(962)984-34-96
A70: 63 | B70: "Борьба с фейковой информацией" | C70: Досуг | D70: видеоролик | E70: Просмотр видеоролика: "Борьба с фейковой информацией"подготовленного по инициативе антитеррористической комиссии в Сахалинской области. | F70: 45692 | G70: 19.00 | H70: Сущевская, 17 | I70: 12+ | J70: АНО "Центр развития социально-значимых проектов и содействия укреплению межнациональго и межрелигиозного согласия" Коршунов Станислав Сергеевич 8(962)984-34-96
A71: 64 | B71: Индивидуальные консультации | C71: Досуг | D71: Приём граждан | E71: Индивидуальное психологическое консультирование по вопросам трудных жизненных ситуаций жителей | F71: 45693 | G71: 10.00 | H71: Тихвинский переулок 7 | I71: Все | J71: АНО «Социальная открытая линия», Иванова Александра Владимировна +79263431779
A72: 65 | B72: Просмотр видеоролика, направленного на формирование стойкого отрицательного отношения к наркотикам | C72: Досуг | D72: Просмотр видеоролика | E72: Волонтёры и педагоги БФ "Дети Марии" организуют просмотр видеоролика, направленного на формирование стойкого отрицательного отношения к наркотикам, для своих благополучателей и жителей района Тверской | F72: 45694 | G72: 0.75 | H72: Дмитровский переулок 2с.1 | I72: 6+ | J72: БФ "Дети Марии" Стахеева Вероника Александровна 8 985 974 63 65
A73: 66 | B73: "Борьба с фейковой информацией" | C73: Досуг | D73: видеоролик | E73: Просмотр видеоролика: "Борьба с фейковой информацией"подготовленного по инициативе антитеррористической комиссии в Сахалинской области. | F73: 45694 | G73: 11.00 | H73: Садовая Триумфальная, д.16,к.3 | I73: 12+ | J73: АНО ТК "Детское Ателье" Вещикова Екатерина Константиновна (985)050-88-22
A74: 67 | B74: "МЫ ПОМНИМ" | C74: досуг | D74: Акция памяти | E74: Минута молчания. Возложение цветов к подножию мемориального памятника героям - молодогвардейцам. | F74: 45694 | G74: 13.00 | H74: Открытая площадка у мемориального памятника героям - молодогвардейцам по адресу: ул.Александра Невского 4 | I74: 18+ | J74: НП "СпортАртлайн" Абурашидов А. 8(985)680-77-11
A75: 68 | B75: "Борьба с фейковой информацией" | C75: Досуг | D75: видеоролик | E75: Просмотр видеоролика: "Борьба с фейковой информацией"подготовленного по инициативе антитеррористической комиссии в Сахалинской области. | F75: 45695 | G75: 12.00 | H75: ул.Чаянова д.16 | I75: 12+ | J75: НП "СпортАртлайн" Абурашидов А. 8(985)680-77-11
A76: 69 | B76: Международный день стоматолога. | C76: Досуг | D76: мастер-класс | E76: Познавательно-практический досуг. Знакомство детей и взрослых с профессией стоматолога(Международный день стоматолога). Формирование общей культуры. | F76: 45695 | G76: 12.00 | H76: 2й Колобовский пер., 9/2с1 | I76: 5+ | J76: АНО "Эстетик класс" Чернояров М.В. 8 (906) 790-88-02
A77: 70 | B77: =[1]Лист1!B12 -> Основы теории сборки беспилотных летательных аппаратов: введение в технологию | C77: =[1]Лист1!C12 -> Досуг | D77: =[1]Лист1!D12 -> мастер-класс | E77: =[1]Лист1!E12 -> Лекция по теории сборки БПЛА: основные этапы сборки, применяемые технологии, используемые материалы и особенности работы с инструментом. | F77: 45696 | G77: 10.00 | H77: 3-я Тверская-Ямская ул., д.12 | I77: 16+ | J77: ФР "Сильная страна" Наместников А.А. 89997400755
A78: 71 | B78: Открытый мастер-класс. | C78: досуг | D78: Мастер-класс. | E78: Мастер-классы по изготовлению открыток к Дню защитника Отечества | F78: 45696 | G78: 14.00 | H78: Москва, 1-я Миусская, д.22, с.4 | I78: от 7 до 60 лет | J78: АНО "Солнечный Ангел" Маркелова М.В. 8(916)6161669
A79: 72 | B79: Турнир Король Партера 27 | C79: Спорт | D79: Турнир | E79: Соревнования по джиу-джитму | F79: 45697 | G79: 45617.375 | H79: ул. Спортивной Авиации, 3 | I79: 4+ | J79: АНО "Буран" Чумаков Иван Викторович 8(926)2823744
A80: 73 | B80: Основы теории сборки беспилотных летательных аппаратов: введение в технологию | C80: Досуг | D80: мастер-класс | E80: Теория сборки БПЛА: основные этапы сборки, применяемые технологии, используемые материалы и особенности работы с инструментом. | F80: 45697 | G80: 10.00 | H80: 3-я Тверская-Ямская ул., д.12 | I80: 16+ | J80: ФР "Сильная страна" Наместников А.А. 89997400755
A81: 74 | B81: Здоровый образ жизни. Его основы и принципы | C81: Досуг | D81: мастер-класс | E81: Ведя здоровый образ жизни, человеку легче справляться с перегрузками и реализовывать свои планы. А крепкое здоровье позволяет прожить долгую и радостную жизнь, наполненную яркими впечатлениями | F81: 45698 | G81: 0.58333333 | H81: Новослободская ул. 62-15 | I81: 18+ | J81: НКОО "Московская осетинская община" Таутиев Казбек Умарович +79188227921
A82: 75 | B82: "ПУШКИНСКАЯ СВЕЧА" Мероприятие, посвящённое Дню памяти А.С. Пушкина | C82: досуг | D82: Вечер поэзии | E82: Литературно - музыкальная программа со стихами, песнями, и театрализованным представлением по произведениям А.С.Пушкина | F82: 45698 | G82: 18.00 | H82: ул.Садовая Каретная д.8, стр.5 | I82: 5+ | J82: АНО Центр "Катюша" Цахилова Земфира Аврамовна 8 (985) 9999 370
A83: 76 | B83: Кружок современного уличного искусства | C83: Досуг | D83: Кружок | E83: Обучение новым формам современного уличного творчества | F83: 45698 | G83: 18.00 | H83: Тихвинский переулок 6 | I83: Дети, подростки | J83: АНО «Социальная открытая линия» Островский Антон Николаевич +79260311020
A84: 77 | B84: Игровое занятие о вреде наркотиков и пользе здорового образа жизни | C84: досуг | D84: Игровой мастер-класс | E84: Занятие о вреде наркотиков и пользе здорового образа жизни с привлечением лиц, состоящих учете КДНиЗП | F84: 45699 | G84: 10.00 | H84: 2-й Колобовский пер., д. 9/2, стр.1 | I84: 3+ | J84: АНО "Искусство в руках" Гульбарян Карен 8(916)121-11-44
A85: 78 | B85: Творческая гостинная | C85: досуг | D85: Мастер - класс | E85: Творческие мастер-классы с родителями на тему весны. | F85: 45699 | G85: 14.00 | H85: 2-й Колобовский пер., д. 9/2, стр.1 | I85: 3+ | J85: АНО "Искусство в руках" Гульбарян Карен 8(916)121-11-44
A86: 79 | B86: Праздничное мероприятие посвященное Масленнице | C86: досуг | D86: мастер-класс | E86: Творческие мастер-класс для детей и рнодителей ко Дню учителя | F86: 45699 | G86: 17.00 | H86: Делегатская 14/2 | I86: 3+ | J86: АНО "Джельсомино" Зурабова Марина Вачакановна 8(968)484-65-05
A87: 80 | B87: День открытых дверей | C87: Досуг | D87: Приём граждан | E87: Встречи психологической поддержки родителей | F87: 45700 | G87: 10:00 - 21:00 | H87: Тихвинский переулок 7 | I87: Все | J87: АНО «Социальная открытая линия» Островский Антон Николаевич +79260311020
A88: 81 | B88: Кружок современного уличного искусства | C88: Досуг | D88: Кружок | E88: Обучение новым формам современного уличного творчества | F88: 45700 | G88: 18.00 | H88: Тихвинский переулок 6 | I88: Дети, подростки | J88: АНО «Социальная открытая линия» Островский Антон Николаевич +79260311020
A89: 82 | B89: Внутригрупповой турнир по шахматам | C89: досуг | D89: турнир | E89: Внутригрупповой турнир по шахматам для младшей группы студии "Белая ладья" | F89: 45701 | G89: 17.20 | H89: Делегатская 14/2 | I89: 5+ | J89: АНО "Джельсомино" Зурабова Марина Вачакановна 8(968)484-65-05
A90: 83 | B90: Мастер-класс ко Дню Святого Валентина | C90: Досуг | D90: Мастер-класс | E90: Волонтёры и педагоги БФ "Дети Марии" проводят мастер-класс для своих подопечных и жителей района Тверской в котором принимают участие семьи, состоящие на учете в КДН иЗП | F90: 45701 | G90: 0.75 | H90: Дмитровский переулок 2с.1 | I90: 6+ | J90: БФ "Дети Марии" Стахеева Вероника 8 985 974 63 65
A91: 84 | B91: Ежеквартальная открытая встреча спортсменов разной национальности | C91: Социальная | D91: Встреча | E91: Встреча молодых спортсменов со старшими товарищами из клуба. Приглашение представителей диаспор, расположенных на территории Тверского района | F91: 45701 | G91: 11.00 | H91: Петровка 26с2 | I91: 7+ | J91: АНО "Буран" Домарадский Игорь Павлович 8(910)4272508
A92: 85 | B92: Круглый стол, посвящённый Героям Отечества | C92: досуг | D92: Онлайн-конференция | E92: Мероприятие по популяризации памятной даты и укрепления российской идентичности в молодежной среде | F92: 45702 | G92: 12.00 | H92: ул. Малая Калужская, д.1 | I92: 14+ | J92: АНО "Центр развития социально-значимых проектов и содействия укреплению межнационального и межрелигиозного согласия" Коршунов Станислав Сергеевич 8(962)984-34-96
A93: 86 | B93: Клуб чтения | C93: Досуг | D93: Интерактивное занятие | E93: Организация встречи для любителей литературы, где можно обсудить прочитанные книги и длиться рекомендациями | F93: 45702 | G93: 0.625 | H93: М. Каретный,7 | I93: 18+ | J93: РОО "Победа" Смирнов Вадим Борисович 89854113834
A94: 87 | B94: "Наступает весенняя пора" | C94: досуг | D94: Мастер-класс | E94: Тематические мастер- классы, танцы, хороводы, посвященные приходу весны | F94: 45702 | G94: 0.75 | H94: ул.Чаянова д.16 | I94: 18+ | J94: НП «СпортАртлайн» Абурашидов А. 8(985)680-77-11
A95: 88 | B95: "Будь здоров!" | C95: Спорт | D95: Мастер-класс | E95: Мастер-класс по фитнес-йоге | F95: 45703 | G95: 13.00 | H95: Садовая Триумфальная, д.16,к.3 | I95: 15+ | J95: АНО ТК "Детское Ателье" Юмашева Л.А. 89850508822
A96: 89 | B96: =[1]Лист1!B13 -> Практика сборки беспилотных летательных аппаратов | C96: =[1]Лист1!C13 -> Досуг | D96: =[1]Лист1!D13 -> мастер-класс | E96: =[1]Лист1!E13 -> Сборка БПЛА, разработанных участниками НКО, а также тренировка управления БПЛА в 3D симуляторе | F96: 45703 | G96: 10.00 | H96: 3-я Тверская-Ямская ул., д.12 | I96: 16+ | J96: ФР "Сильная страна" Наместников А.А. 89997400755
A97: 90 | B97: Фотопроект "Горячее сердце". | C97: досуг | D97: Фотопроект | E97: Фотопроект студии "Фотобудка" для модных журналов. Оттачивание навыков фотопозирования. | F97: 45704 | G97: 14.00 | H97: Москва, 1-я Миусская, д.22, с.4 | I97: от 7 до 60 лет | J97: АНО "Солнечный Ангел" Маркелова М.В. 8(916)6161669
A98: 91 | B98: Открытый киноклуб "Флора и фауна на территории России" | C98: Досуг | D98: Киноклуб | E98: Волонтёры и педагоги БФ "Дети Марии" проводят открытый киноклуб для своих благополучателей и жителей района Тверской | F98: 45704 | G98: 0.625 | H98: Дмитровский переулок 2с.1 | I98: 6+ | J98: БФ "Дети Марии" Стахеева Вероника 8 985 974 63 65
A99: 92 | B99: "ЛЮБИМАЯ КНИГА" Мероприятие, посвящённое выбору литературных произведений | C99: досуг | D99: Литературный вечер | E99: Интерактивная тематическая программа о книгах и их роли в становлении личности | F99: 45705 | G99: 17.30 | H99: ул.Садовая Каретная д.8, стр.5 | I99: 5+ | J99: АНО Центр "Катюша" Цахилова Земфира Аврамовна 8 (985) 9999 370
A100: 93 | B100: Семейный мастер-класс "Рисуем к 23 февраля" | C100: досуг | D100: изобразительная | E100: мастер-класс по изготовлению поздравительной открытки к 23 февраля | F100: 45705 | G100: 0.625 | H100: Тихвинский пер. дом 10/12-9 | I100: 5+ | J100: «Авто- мото ТР-клуб САО» Юрова Анастасия Дмитриевна 8-903-510-03-19
A101: 94 | B101: "Мой район Тверской. Тверская и переулки". | C101: Досуг | D101: Уличное мероприятие | E101: Экскурсия | F101: 45706 | G101: 13.00 | H101: ул.Тверская | I101: 10+ | J101: АНО ТК "Детское Ателье" Вещикова Е.К. 89850508822
A102: 95 | B102: Спортивная эстафета "Быстрее, выше, сильнее" | C102: Спорт | D102: Спортивное мероприятие | E102: Спортивная эстафета, в которой учавствуют дети . Бег, подтягивание, ловкость - навыки, которые позволят стать победителем и получить приз. | F102: 45706 | G102: 16.00 | H102: 2й Колобовский пер., 9/2с1 | I102: 5+ | J102: АНО "Эстетик класс" Чернояров М.В. 8 (906) 790-88-02
A103: 96 | B103: "Вечера на Тихвинском близ Бутырки" | C103: Досуг | D103: Встреча соседей | E103: Соседские встречи-посиделки для тех, кому одиноко субботним вечером | F103: 45707 | G103: 18.00 | H103: Тихвинский переулок 6 | I103: Все | J103: АНО «Социальная открытая линия» Островский Антон Николаевич +79260311020
A104: 97 | B104: Игровое занятие о вреде наркотиков и пользе здорового образа жизни | C104: Досуг | D104: Мастер-класс | E104: Занятие о вреде наркотиков и пользе здорового образа жизни с привлечением лиц, состоящих учете КДНиЗП | F104: 45707 | G104: 17.00 | H104: ул.Чаянова д.16 | I104: 18+ | J104: НП «СпортАртлайн» Абурашидов А. 8(985)680-77-11
...
