Workbook

Sheet Лист1
A1: План мероприятий по досуговой, социально-воспитательной и спортивной работе с населением по месту жительства Тверского района на 1 квартал 2025 года.
A6: № п/п | B6: Название мероприятия | C6: Направленность мероприятия спорт/досуг | D6: Форма мероприятия | E6: Краткое содержание мероприятия | F6: Дата проведения мероприятия | G6: Время проведения мероприятия | H6: Место проведения мероприятия (наименование учреждения, адрес) | I6: Возрастная категория | J6: Ответственный за проведение мероприятия и телефон (наименование учреждения, ФИО, моб. тел.)
A7: 1 | B7: 2 | C7: 3 | D7: 4 | E7: 5 | F7: 6 | G7: 7 | H7: 8 | I7: 9 | J7: 10
A8: 1 | B8: "Рождество". Праздничные мероприятия, мастер-классы. | C8: Досуг | D8: Танцевальный мастер-класс | E8: Мастер-класс по классическому танцу | F8: 45663 | G8: 16.00 | H8: Садовая Триумфальная, д.16,к.3 | I8: 12+ | J8: АНО ТК "Детское Ателье" Юмашева Л.А. 89850508822
A9: 2 | B9: Рождественский открытый ковер | C9: Спорт | D9: Открытый ковер | E9: Открытый ковер и мастер-класс | F9: 45663 | G9: 45537.667 | H9: Петровка 26с2 | I9: 3+ | J9: АНО "Буран" Домарадский Игорь Павлович 8(910)4272508
A10: 3 | B10: "Рождество". Праздничные мероприятия, мастер-классы. | C10: Досуг | D10: Праздничная программа | E10: Выставка рисунков "Рождество в Москве", праздничная программа, чаепитие.. | F10: 45663 | G10: 12.00 | H10: Москва, 1-я Миусская, д.22, с.4. Возможно выездное мероприятие. | I10: от 5 до 75 лет | J10: АНО "Солнечный Ангел" Маркелова М.В. 8(916)6161669
A11: 4 | B11: Беседа о вреде наркотиков и пользе здорового образа жизни | C11: Досуг | D11: Беседа | E11: Беседа о вреде наркотиков и пользе здорового образа жизни с привлечением лиц, состоящих учете КДНиЗП | F11: 45665 | G11: 11.00 | H11: Садовая Триумфальная, д.16,к.3 | I11: 18+ | J11: АНО ТК "Детское Ателье" Вещикова Екатерина Константиновна (985)050-88-22
A12: 5 | B12: Споривный фестиваль | C12: Спорт | D12: Турнир | E12: Проведение турниров по различным видам спорта, где основной целью будет содействие укреплению общинных связей | F12: 45665 | G12: 0.75 | H12: Сущевская, 17 | I12: 16+ | J12: АНО "Центр развития социально-значимых проектов и содействия укреплению межнациональго и межрелигиозного согласия" Коршунов Станислав Сергеевич 8(962)984-34-96
A13: 6 | B13: "В РОЖДЕСТВО ВСЕ НЕМНОГО ВОЛХВЫ..." Мероприятие, посвящённое празднованию Рождества | C13: Досуг | D13: Праздник | E13: Тематическая литературно-музыкальная программа творческого коллектива со стихами, песнями, танцами. Праздничное чаепитие. | F13: 45665 | G13: 16.00 | H13: ул.Садовая Каретная д.8, стр.5 | I13: 5+ | J13: АНО Центр "Катюша" Цахилова Земфира Аврамовна 8 (985) 9999 370
A14: 7 | B14: Спортивное мероприятие. Открытый Турнир Король Партера 24, посвященный профилактике наркомании среди молодежи | C14: Спорт | D14: Соревнования | E14: Большой открытый турнир по Бразильскому Джиу-Джитсу Король Партера 24, посвященный профилактике наркомании среди молодежи | F14: 45666 | G14: 10.00 | H14: ул. Петровка, 26с2 | I14: 16+ | J14: АНО "Буран" Домарадский Игорь Павлович 8(910)4272508
A15: 8 | B15: "Творческий вечер: Рисуем вместе" | C15: Досуг | D15: Мастер - класс | E15: Мастер-класс по акварельной живописи. Участники познакомятся с основами акварельной техники и создадут свои картины. В конце пройдет выставка работ. | F15: 45666 | G15: 0.5 | H15: 2-й Колобовский пер., д. 9/2, стр.1 | I15: 3+ | J15: АНО "Искусство в руках" Гульбарян Карен 8(916)121-11-44
A16: 9 | B16: "ВЕСЕЛАЯ СКАКАЛКА" Спортивный конкурс по прыжкам на скакалке | C16: Спорт | D16: Спортивное соревнование | E16: Спортивное состязание индивидуальных достижений с присвоением призовых мест согласно возрастной категории. | F16: 45667 | G16: 17.30 | H16: ул.Садовая Каретная д.8, стр.5 | I16: 5+ | J16: АНО Центр "Катюша" Цахилова Земфира Аврамовна 8 (985) 9999 370
A17: 10 | B17: Старый Новый год | C17: Спорт | D17: День борьбы | E17: Открытый ковер и мастер-класс | F17: 45667 | G17: 45446.458 | H17: ул. Петровка, 26с2 | I17: 10+ | J17: АНО "Буран" Домарадский Игорь Павлович 8(910)4272508
A18: 11 | B18: "Будь здоров!" | C18: Спорт | D18: Мастер- класс | E18: Мастер-класс по фитнес-йоге | F18: 45668 | G18: 13.00 | H18: Садовая Триумфальная, д.16,к.3 | I18: 15+ | J18: АНО ТК "Детское Ателье" Юмашева Л.А. 89850508822
A19: 12 | B19: =[1]Лист1!B8 -> Малая авиация: основы пилотирования | C19: =[1]Лист1!C8 -> Досуг | D19: =[1]Лист1!D8 -> мастер-класс | E19: =[1]Лист1!E8 -> Лекция по теории малой авиации, области её применения, нормативно-правовая база, производственные мощности в данный момент и новые Отечественные разработки. Практическая подготовка: изучение основ пилотирования на компьютерном симуляторе | F19: 45668 | G19: 10.00 | H19: 3-я Тверская-Ямская ул., д.12 | I19: =[1]Лист1!I8 -> 16+ | J19: ФР "Сильная страна" Наместников А.А. 89997400755
A20: 13 | B20: День откртых дверей | C20: Досуг | D20: открытый урок | E20: Открытые уроки занятий центра | F20: 45670 | G20: 0.70833333 | H20: Делегатская 14/2 | I20: 3+ | J20: АНО "Джельсомино" Зурабова Марина Вачакановна 8(968)484-65-05
A21: 14 | B21: "ДОБРЫЙ СТАРЫЙ НОВЫЙ ГОД" | C21: Досуг | D21: Вечер отдыха | E21: Культурно-досуговое мероприятие,посвященное празднованию Старого Нового года. Тематический вечер с конкурсами, стихами, песнями и загадками. Чаепитие. | F21: 45670 | G21: 17.00 | H21: Ул.Чаянова, 16 | I21: 18+ | J21: НП "Спортартлайн" Абдурашидов М.С. +79856807711
A22: 15 | B22: Традиции на Старый Новый год | C22: Досуг | D22: развлекательное | E22: праздник во дворе. Викторыны, конкурсы, игры | F22: 45670 | G22: 0.70833333 | H22: уличная дворовая площадка Тихвинская ул. д.3 | I22: 3+ | J22: «Авто- мото ТР-клуб САО» Юрова Анастасия Дмитриевна 8-903-510-03-19
A23: 16 | B23: "Старый Ноый год" | C23: Досуг | D23: Выездное мероприятие в ЦСПР, ЦССВ г. Москвы | E23: Мастер-класс. Хореографическая сказка "Щелкунчик". | F23: 45671 | G23: 12.00 | H23: Москва, 1-я Миусская, д.22, с.4. | I23: от 7 до 60 лет | J23: АНО "Солнечный Ангел" Маркелова М.В. 8(916)6161669
A24: 17 | B24: "Фотография: Запечатлей момент!" | C24: Досуг | D24: Мастер-класс | E24: Мастер-класс по основам фотографии. Участники получат задания на практике. | F24: 45671 | G24: 0.625 | H24: 2-й Колобовский пер., д. 9/2, стр.1 | I24: 3+ | J24: АНО "Искусство в руках " Гульбарян Карен 8(916)121-11-44
A25: 18 | B25: Здоровый образ жизни. Его основы и принципы | C25: Досуг | D25: Интерактивное занятие | E25: Ведя здоровый образ жизни, человеку легче справляться с перегрузками и реализовывать свои планы. А крепкое здоровье позволяет прожить долгую и радостную жизнь, наполненную яркими впечатлениями | F25: 45671 | G25: 0.52083333 | H25: Петровка 26с2 | I25: 16+ | J25: АНО "Буран" Домарадский Игорь Павлович 8(910)4272508
A26: 19 | B26: Развивающий мастер-класс для детей дошкольного возраста | C26: Досуг | D26: Мастер-класс | E26: Спортивныый мастер-класс | F26: 45672 | G26: 0.70833333 | H26: Петровка 26с2 | I26: 7+ | J26: АНО "Буран" Домарадский Игорь Павлович 8(910)4272508
A27: 20 | B27: Соседские посиделки Здоровый образ жизни. Его основы и принципы | C27: Досуг | D27: Беседа | E27: Ведя здоровый образ жизни, человеку легче справляться с перегрузками и реализовывать свои планы. А крепкое здоровье позволяет прожить долгую и радостную жизнь, наполненную яркими впечатлениями | F27: 45672 | G27: 19.00 | H27: Тихвинский переулок 6 | I27: 18+ | J27: АНО "Социальная открытая линия" Островский Антон Николаевич +79260311020
A28: 21 | B28: Индивидуальные консультации | C28: Досуг | D28: Кружок | E28: Индивидуальное психологическое консультирование | F28: 45672 | G28: 18.00-21.00 | H28: Тихвинский переулок 6 | I28: 5+ | J28: АНО «Социальная открытая линия» Арчакова Татьяна Олеговна +79169259174
A29: 22 | B29: Мастер-класс "Традиционные костюмы народов России" | C29: Досуг | D29: Мастер-класс | E29: Волонтёры и педагоги БФ "Дети Марии" проводят мастер-класс для своих благополучателей и жителей района Тверской | F29: 45673 | G29: 0.75 | H29: Дмитровский переулок 2с.1 | I29: 6+ | J29: БФ "Дети Марии" Стахеева Вероника 8 985 974 63 65
A30: 23 | B30: Здоровый образ жизни. Его основы и принципы | C30: Досуг | D30: Беседа | E30: Ведя здоровый образ жизни, человеку легче справляться с перегрузками и реализовывать свои планы. А крепкое здоровье позволяет прожить долгую и радостную жизнь, наполненную яркими впечатлениями | F30: 45673 | G30: 16.00 | H30: Новослободская ул. 62-15 | I30: 18+ | J30: НКОО "Московская осетинская община" Таутиев Казбек Умарович +79188227921
A31: 24 | B31: "Борьба с фейковой информацией" | C31: Досуг | D31: видеоролик | E31: Просмотр видеоролика: "Борьба с фейковой информацией"подготовленного по инициативе антитеррористической комиссии в Сахалинской области. | F31: 45674 | G31: 0.625 | H31: М. Каретный,7 | I31: 12+ | J31: РОО "Победа" Смирнов Вадим Борисович 89854113834
A32: 25 | B32: Мастер-класс с чемпионом России по кикбоксингу, турнир, посвященный Рождеству Христиву | C32: Спорт | D32: Мастер - класс | E32: Мастер-класс для всех желающих в возрасте 16-35 лет. Мероприятие в спортивном зале для единоборств. | F32: 45674 | G32: 0.79166667 | H32: Сущевская, 17 | I32: 16+ | J32: АНО "Центр развития социально-значимых проектов и содействия укреплению межнационального и межрелигиозного согласия" Коршунов Станислав Сергеевич 8(962)984-34-96
A33: 26 | B33: Здоровый образ жизни. Его основы и принципы | C33: Досуг | D33: Интерактивное занятие | E33: Ведя здоровый образ жизни, человеку легче справляться с перегрузками и реализовывать свои планы. А крепкое здоровье позволяет прожить долгую и радостную жизнь, наполненную яркими впечатлениями. Участием лиц, состоящих на учете КДНиЗП | F33: 45674 | G33: 12.00 | H33: М. Каретный,7 | I33: 18+ | J33: РОО "Победа" Смирнов Вадим Борисович 89854113834
A34: 27 | B34: "Борьба с фейковой информацией" | C34: Досуг | D34: видеоролик | E34: Просмотр видеоролика: "Борьба с фейковой информацией"подготовленного по инициативе антитеррористической комиссии в Сахалинской области. | F34: 45674 | G34: 0.54166667 | H34: г.Москва,ул. 1-я Миусская, д.22, с.4 | I34: 12+ | J34: АНО "Солнечный Ангел" Маркелова М.В. 8(916)6161669
A35: 28 | B35: Акция по сбору детских книг «Подари книге жизнь», посвященная Дню детской книги. Беседа о вреде наркотиков и пользе здорового образа жизни | C35: Досуг | D35: Акция | E35: Благотоворительная акция по сбору книг, в которой принимают участия родители совместно с детьмя, а также лица состоящие на учете КДНиЗП. Беседа о вреде наркотиков и пользе здорового образа жизни | F35: 45675 | G35: 12.00 | H35: Делегатская 14/2 | I35: 3+ | J35: АНО "Джельсомино" Зурабова Марина Вачакановна 8(968)484-65-05
A36: 29 | B36: Здоровый образ жизни. Его основы и принципы | C36: Досуг | D36: Интерактивное занятие, беседа | E36: Ведя здоровый образ жизни, человеку легче справляться с перегрузками и реализовывать свои планы. А крепкое здоровье позволяет прожить долгую и радостную жизнь, наполненную яркими впечатлениями. Выступление детей для родителей и приглашенных жителей микрорайона, а также с участием лиц, состоящих учете КДНиЗП. Беседа о вреде наркотиков и пользе здорового образа жизни | F36: 45675 | G36: 12.00 | H36: г.Москва,ул. 1-я Миусская, д.22, с.4 | I36: 7+ | J36: АНО "Солнечный Ангел" Маркелова М.В. 8(916)6161669
A37: 30 | B37: =[1]Лист1!B9 -> Малая авиация: секреты и тонкости | C37: =[1]Лист1!C9 -> Досуг | D37: =[1]Лист1!D9 -> мастер-класс | E37: Теория по малой авиации, области её применения, нормативно-правовая база, производственные мощности в данный момент и новые Отечественные разработки. Практическая подготовка: изучение основ пилотирования на компьютерном симуляторе | F37: 45675 | G37: =[1]Лист1!G9 -> 10:00-11:30 | H37: 3-я Тверская-Ямская ул., д.12 | I37: 16+ | J37: ФР "Сильная страна" Наместников А.А. 89997400755
A38: 31 | B38: Солнечный Ангел приглашает друзей. | C38: Досуг | D38: Творческая встреча. | E38: Творческие встречи с интертесными людьми. Круглый стол. | F38: 45676 | G38: 14.00 | H38: Москва, 1-я Миусская, д.22, с.4 | I38: от 7 до 60 лет | J38: АНО "Солнечный Ангел" Маркелова М.В. 8(916)6161669
A39: 32 | B39: "В РИТМЕ ТАНЦА" | C39: Досуг | D39: Мастер-класс | E39: Танцевальный вечер в стиле хастл. Профессиональные танцоры проведут ознакомительное занятие по технике танца хастл. Чаепитие. | F39: 45676 | G39: 19.00 | H39: Ул.Чаянова, 16 | I39: 18+ | J39: НП "СпортАртлайн" Абдурашидов М.С. +79856807711
A40: 33 | B40: Благотворительный мастер-класс | C40: Досуг | D40: творческая мастерская | E40: изготовление спасательных браслетов | F40: 45677 | G40: 0.625 | H40: Тихвинский пер. дом 10/12-9 | I40: 18+ | J40: «Авто- мото ТР-клуб САО» Юрова Анастасия Дмитриевна 8-903-510-03-19
A41: 34 | B41: "Мой район Тверской. Цветной бульвар вчера и сегодня" | C41: Досуг | D41: Уличное мероприятие | E41: Экскурсия | F41: 45678 | G41: 13.00 | H41: Цветной бульвар | I41: 10+ | J41: АНО ТК "Детское Ателье" Вещикова Е.К. 89850508822
A42: 35 | B42: Международный день снеговика | C42: Досуг | D42: Мастер-класс | E42: Мастер класс по декоративно-прикладному искусству "Хорошие снеговики". | F42: 45679 | G42: 18.00 | H42: 2й Колобовский пер., 9/2с1 | I42: 7+ | J42: АНО "Эстетик класс" Чернояров М.В. 8 (906) 790-88-02
A43: 36 | B43: Практика сборки беспилотных летательных аппаратов | C43: Досуг | D43: Мастер-класс | E43: Сборка БПЛА, разработанных участниками НКО | F43: 45679 | G43: 12.00 | H43: Москва, ул. 3-я Тверская-Ямская д.12.стр 2 | I43: 16+ | J43: ФР "Сильная страна" Наместников Арсений - 89997400755
A44: 37 | B44: Соседские посиделки | C44: Досуг | D44: Кружок | E44: Игры, соседское общение на английском языке | F44: 45680 | G44: 19.00 | H44: Тихвинский переулок 6 | I44: 7+ | J44: АНО «Социальная открытая линия» Островский Антон Николаевич +79260311020
...
